BEGIN:VCALENDAR
VERSION:2.0
PRODID:-//wp-events-plugin.com//7.2.3.1//EN
BEGIN:VEVENT
UID:327@kulturwerkstatt-lapalma.com
DTSTART;TZID=Europe/Lisbon:20260513T100000
DTEND;TZID=Europe/Lisbon:20260619T133000
DTSTAMP:20260422T220848Z
URL:https://kulturwerkstatt-lapalma.com/es/events/memorias-de-gaia-ausstel
 lung-la-palma/
SUMMARY:🎨 Ausstellung „Memorias de Gaia“ – Acrílico fluido / Pour
 ing Art
DESCRIPTION:\n\n\n🎨 Ausstellung „Memorias de Gaia“ – Acrílico flu
 ido / Pouring Art\n\n\n\nMit „Memorias de Gaia“ präsentiert Raphael B
 ecker eine Ausstellung\,\ndie die lebendige Kraft der Pouring-Technik sich
 tbar macht.\nDiese besondere Form der abstrakten Malerei arbeitet nicht mi
 t Pinselstrichen\,\nsondern mit fließenden Acrylfarben\, die sich auf der
  Leinwand auf überraschende und organische Weise entfalten.\n\nFarben str
 ömen\, verbinden sich\, bilden Zellen\, feine Muster und bewegte Landscha
 ften.\nSo entstehen Werke voller Tiefe\, Dynamik und Eigenleben –\nzwisc
 hen Kontrolle und Loslassen\, Experiment und Meditation.\nDie Ausstellung 
 zeigt die ganze Bandbreite dieser ausdrucksstarken Technik:\nvon ruhigen\,
  harmonischen Kompositionen bis hin zu kraftvollen\, farbintensiven Bildwe
 lten.\n\nRaphael Becker\, auf La Palma aufgewachsen und von Vulkanlandscha
 ft\, Meer\,\nLicht und Schatten seiner Heimat geprägt\, hat sich über vi
 ele Jahre\nauf die anspruchsvolle Flip-Cup-Technik spezialisiert.\nSeine A
 rbeiten tragen die wilde Schönheit der Insel ebenso in sich\nwie die Konz
 entration und Hingabe des künstlerischen Prozesses.\n\n✨ Eine Ausstellu
 ng für alle\, die Farbe nicht nur sehen\, sondern in ihrer Bewegung\, Tie
 fe und Lebendigkeit erleben möchten.\n\n\n\n📅 Eröffnung: 11.05.2026\,
  15:00–18:00 Uhr\n📍 Viento del Norte\, Puntagorda\, El Pinar 43C\n\n
 ✨Raphael: +34641950580\n\n🖼️ Ausstellungszeitraum: 11.05. – 19.06
 .2026\nÖffnungszeiten:\nMittwoch 10:00–13:30 Uhr\nFreitag 10:00–13:30
  Uhr\n\nHier ein paar Impressionen der Technik\, auf der Ausstellung werde
 n neue Werke gezeigt\n\n[pgc_simply_gallery id="1299"]\n\n\n\nℹ️ Weite
 re Informationen:\nwww.viento-del-norte.eu\n\n
ATTACH;FMTTYPE=image/jpeg:https://kulturwerkstatt-lapalma.com/wp-content/u
 ploads/2026/04/photo_2026-04-22_22-14-09.jpg
CATEGORIES:Kunstausstellung
LOCATION:Kulturwerkstatt „Viento del Norte" Puntagorda\, Camino EI Pinar 
 43 C\, neben „coffee &amp\; cake"\, Puntagorda\, Santa Cruz de Tenerife\
 , 38789\, España
X-APPLE-STRUCTURED-LOCATION;VALUE=URI;X-ADDRESS=Camino EI Pinar 43 C\, nebe
 n „coffee & cake\"\, Puntagorda\, Santa Cruz de Tenerife\, 38789\, Espa
 ña;X-APPLE-RADIUS=100;X-TITLE=Kulturwerkstatt „Viento del Norte\" Punta
 gorda:geo:0,0
END:VEVENT
BEGIN:VTIMEZONE
TZID:Europe/Lisbon
X-LIC-LOCATION:Europe/Lisbon
BEGIN:DAYLIGHT
DTSTART:20260329T020000
TZOFFSETFROM:+0000
TZOFFSETTO:+0100
TZNAME:WEST
END:DAYLIGHT
END:VTIMEZONE
END:VCALENDAR